BEGIN:VCALENDAR
VERSION:2.0
PRODID:-//budrich training - ECPv6.15.20//NONSGML v1.0//EN
CALSCALE:GREGORIAN
METHOD:PUBLISH
X-WR-CALNAME:budrich training
X-ORIGINAL-URL:https://budrich-training.de
X-WR-CALDESC:Veranstaltungen für budrich training
REFRESH-INTERVAL;VALUE=DURATION:PT1H
X-Robots-Tag:noindex
X-PUBLISHED-TTL:PT1H
BEGIN:VTIMEZONE
TZID:Europe/Berlin
BEGIN:DAYLIGHT
TZOFFSETFROM:+0100
TZOFFSETTO:+0200
TZNAME:CEST
DTSTART:20240331T010000
END:DAYLIGHT
BEGIN:STANDARD
TZOFFSETFROM:+0200
TZOFFSETTO:+0100
TZNAME:CET
DTSTART:20241027T010000
END:STANDARD
BEGIN:DAYLIGHT
TZOFFSETFROM:+0100
TZOFFSETTO:+0200
TZNAME:CEST
DTSTART:20250330T010000
END:DAYLIGHT
BEGIN:STANDARD
TZOFFSETFROM:+0200
TZOFFSETTO:+0100
TZNAME:CET
DTSTART:20251026T010000
END:STANDARD
BEGIN:DAYLIGHT
TZOFFSETFROM:+0100
TZOFFSETTO:+0200
TZNAME:CEST
DTSTART:20260329T010000
END:DAYLIGHT
BEGIN:STANDARD
TZOFFSETFROM:+0200
TZOFFSETTO:+0100
TZNAME:CET
DTSTART:20261025T010000
END:STANDARD
END:VTIMEZONE
BEGIN:VEVENT
DTSTART;TZID=Europe/Berlin:20250304T140000
DTEND;TZID=Europe/Berlin:20250304T170000
DTSTAMP:20260421T071543
CREATED:20260323T071310Z
LAST-MODIFIED:20260331T124903Z
UID:8798-1741096800-1741107600@budrich-training.de
SUMMARY:Wissenschaftliches Schreiben – Teil 1 (online)
DESCRIPTION:Ziel des zweiteiligen Workshops ist es\, den eigenen wissenschaftlichen Schreibstil weiterzuentwickeln und die Kenntnisse zur Texterstellung\, insbesondere für Zeitschriftenbeiträge\, anwendbar zu machen. \nIm ersten Teil des Online-Workshops arbeiten die Teilnehmer*innen gezielt an Aspekten des Textaufbaus und der Formulierung. Sie lernen\, ihre Gedanken fachlich und stilistisch angemessen zu formulieren: Sätze und Texte so zu gestalten\, dass sie logisch\, verständlich und präzise sind; Klarheit und Harmonie zu schaffen\, indem sie strukturieren und gliedern; den roten Faden und den Spannungsbogen beim Schreiben zu halten. Wir besprechen individuelle Herausforderungen bei der Texterstellung\, Aspekte des Text- und Satzaufbaus und geben Strategien an die Hand\, um sprachliche Komplexität zu reduzieren und auch komplizierte Sachverhalte einfach zu vermitteln. \nIm zweiten Teil des Workshops liegt der Fokus auf dem angemessenen Schreiben für unterschiedliche Textsorten und Zielgruppen. Spezifische Herausforderungen beim Erstellen von Zeitschriftenbeiträgen werden erläutert und diskutiert. Ferner wird das gemeinsame Schreiben und das Peer Review eine Rolle spielen: Welche Herausforderungen gibt es\, wenn ein Text durch mehrere Hände geht? Wie bewerte ich fremde Texte\, wie gebe ich konstruktives Feedback? Wie kann redaktionelle Arbeit möglichst effizient organisiert werden? \n  \nDer zweite Teil des Workshops Wissenschaftliches Schreiben findet am 11. März 2025 statt.\n  \nTrainerin: Barbara Budrich \n  \nTitelbild: pexels.com / CoWomen
URL:https://budrich-training.de/event/wissenschaftliches-schreiben-teil-1-online/
CATEGORIES:Workshop "Wissenschaftliches Schreiben"
ATTACH;FMTTYPE=image/png:https://budrich-training.de/wp-content/uploads/2024/11/Wissenschaftlich-schreiben_web.png
END:VEVENT
BEGIN:VEVENT
DTSTART;TZID=Europe/Berlin:20250311T140000
DTEND;TZID=Europe/Berlin:20250311T170000
DTSTAMP:20260421T071543
CREATED:20260323T071941Z
LAST-MODIFIED:20260402T165937Z
UID:8805-1741701600-1741712400@budrich-training.de
SUMMARY:Wissenschaftliches Schreiben – Teil 2 (online)
DESCRIPTION:Ziel des zweiteiligen Workshops ist es\, den eigenen wissenschaftlichen Schreibstil weiterzuentwickeln und die Kenntnisse zur Texterstellung\, insbesondere für Zeitschriftenbeiträge\, anwendbar zu machen. \nIm zweiten Teil des Workshops liegt der Fokus auf dem angemessenen Schreiben für unterschiedliche Textsorten und Zielgruppen. Spezifische Herausforderungen beim Erstellen von Zeitschriftenbeiträgen werden erläutert und diskutiert. Ferner wird das gemeinsame Schreiben und das Peer Review eine Rolle spielen: Welche Herausforderungen gibt es\, wenn ein Text durch mehrere Hände geht? Wie bewerte ich fremde Texte\, wie gebe ich konstruktives Feedback? Wie kann redaktionelle Arbeit möglichst effizient organisiert werden? \nDer erste Teil des Wokshops Wissenschaftliches Schreiben fand am 4. März 2025 statt.\n  \nTrainerin: Barbara Budrich \n  \nTitelbild: pexels.com / CoWomen
URL:https://budrich-training.de/event/wissenschaftliches-schreiben-teil-2-online/
LOCATION:Institut für Musikpädagogik\, Universität der Künste Berlin
CATEGORIES:Workshop "Wissenschaftliches Schreiben"
ATTACH;FMTTYPE=image/png:https://budrich-training.de/wp-content/uploads/2024/11/Wissenschaftlich-schreiben_web.png
END:VEVENT
END:VCALENDAR