BEGIN:VCALENDAR
VERSION:2.0
PRODID:-//budrich training - ECPv6.15.20//NONSGML v1.0//EN
CALSCALE:GREGORIAN
METHOD:PUBLISH
X-WR-CALNAME:budrich training
X-ORIGINAL-URL:https://budrich-training.de
X-WR-CALDESC:Veranstaltungen für budrich training
REFRESH-INTERVAL;VALUE=DURATION:PT1H
X-Robots-Tag:noindex
X-PUBLISHED-TTL:PT1H
BEGIN:VTIMEZONE
TZID:Europe/Berlin
BEGIN:DAYLIGHT
TZOFFSETFROM:+0100
TZOFFSETTO:+0200
TZNAME:CEST
DTSTART:20240331T010000
END:DAYLIGHT
BEGIN:STANDARD
TZOFFSETFROM:+0200
TZOFFSETTO:+0100
TZNAME:CET
DTSTART:20241027T010000
END:STANDARD
BEGIN:DAYLIGHT
TZOFFSETFROM:+0100
TZOFFSETTO:+0200
TZNAME:CEST
DTSTART:20250330T010000
END:DAYLIGHT
BEGIN:STANDARD
TZOFFSETFROM:+0200
TZOFFSETTO:+0100
TZNAME:CET
DTSTART:20251026T010000
END:STANDARD
BEGIN:DAYLIGHT
TZOFFSETFROM:+0100
TZOFFSETTO:+0200
TZNAME:CEST
DTSTART:20260329T010000
END:DAYLIGHT
BEGIN:STANDARD
TZOFFSETFROM:+0200
TZOFFSETTO:+0100
TZNAME:CET
DTSTART:20261025T010000
END:STANDARD
END:VTIMEZONE
BEGIN:VEVENT
DTSTART;TZID=Europe/Berlin:20250409T133000
DTEND;TZID=Europe/Berlin:20250409T163000
DTSTAMP:20260420T080009
CREATED:20260323T073122Z
LAST-MODIFIED:20260402T165419Z
UID:8816-1744205400-1744216200@budrich-training.de
SUMMARY:Workshop „Erfolgreich publizieren“
DESCRIPTION:Workshop zur Tagung „SheEngage: Networking und Karrierechancen“\, ausgerichtet von der Prof@THGA \nPublish or perish – Publizieren ist in der wissenschaftlichen Kommunikation von enormer Bedeutung. Wer in den Wissenschaften nicht publiziert\, verbreitet seine Erkenntnisse und Leistungen nicht und ist damit im Fachbereich nicht präsent. Auf Grundlage jahrelanger Verlagserfahrung gibt Lektorin Miriam von Maydell Einblick in den Prozess des wissenschaftlichen Publizierens und vermittelt Tipps für eine erfolgreiche Publikationsstrategie. \nDie Teilnehmerinnen* lernen\, wie sie gezielter Publizieren können\, welche Publikationsform für den jeweiligen Text angemessen ist\, wie sie ihr Projekt effektiv beim Verlag vorstellen – und welche Rahmenbedingungen für eine gelingende Zusammenarbeit wichtig sind. Kurz: wie sie ihre Veröffentlichung und damit sich selbst in der Wissenschaft sichtbar positionieren. \nDer Workshop richtet sich an Absolventinnen*\, Doktorandinnen* und Post-Docs. Während des Workshops haben die Teilnehmerinnen* die Möglichkeit\, Fragen sowie eigene Publikationserfahrungen einzubringen und zu diskutieren \n  \nTrainerin: Miriam von Maydell \n  \nTitelbild: pexels.com / Karolina Grabowska
URL:https://budrich-training.de/event/workshop-erfolgreich-publizieren/
LOCATION:Technische Hochschule Georg Agricola
CATEGORIES:Workshop "Wissenschaftliches Publizieren"
ATTACH;FMTTYPE=image/png:https://budrich-training.de/wp-content/uploads/2024/10/Workshop-Publizieren.png
END:VEVENT
END:VCALENDAR