BEGIN:VCALENDAR
VERSION:2.0
PRODID:-//budrich training - ECPv6.15.20//NONSGML v1.0//EN
CALSCALE:GREGORIAN
METHOD:PUBLISH
X-ORIGINAL-URL:https://budrich-training.de
X-WR-CALDESC:Veranstaltungen für budrich training
REFRESH-INTERVAL;VALUE=DURATION:PT1H
X-Robots-Tag:noindex
X-PUBLISHED-TTL:PT1H
BEGIN:VTIMEZONE
TZID:Europe/Berlin
BEGIN:DAYLIGHT
TZOFFSETFROM:+0100
TZOFFSETTO:+0200
TZNAME:CEST
DTSTART:20240331T010000
END:DAYLIGHT
BEGIN:STANDARD
TZOFFSETFROM:+0200
TZOFFSETTO:+0100
TZNAME:CET
DTSTART:20241027T010000
END:STANDARD
BEGIN:DAYLIGHT
TZOFFSETFROM:+0100
TZOFFSETTO:+0200
TZNAME:CEST
DTSTART:20250330T010000
END:DAYLIGHT
BEGIN:STANDARD
TZOFFSETFROM:+0200
TZOFFSETTO:+0100
TZNAME:CET
DTSTART:20251026T010000
END:STANDARD
BEGIN:DAYLIGHT
TZOFFSETFROM:+0100
TZOFFSETTO:+0200
TZNAME:CEST
DTSTART:20260329T010000
END:DAYLIGHT
BEGIN:STANDARD
TZOFFSETFROM:+0200
TZOFFSETTO:+0100
TZNAME:CET
DTSTART:20261025T010000
END:STANDARD
END:VTIMEZONE
BEGIN:VEVENT
DTSTART;TZID=Europe/Berlin:20250306T170000
DTEND;TZID=Europe/Berlin:20250306T181500
DTSTAMP:20260422T042116
CREATED:20260323T071711Z
LAST-MODIFIED:20260402T170356Z
UID:8801-1741280400-1741284900@budrich-training.de
SUMMARY:Lange Nacht des Schreibens 2025: „Publizieren in Fachzeitschriften – Tipps aus der Perspektive einer Verlegerin“
DESCRIPTION:Im Verlauf der Promotion entsteht oft der Wunsch\, Ergebnisse über die Dissertationsschrift hinaus zu veröffentlichen – oft gehört eine Zeitschriftenveröffentlichung auch zu den Anforderungen einer Dissertation. Wie finde ich die passende Zeitschrift für mein Thema? Woran erkenne ich eine ‚gute‘ Zeitschrift? Und welche Besonderheiten birgt das Veröffentlichen in Journals im Gegensatz zu anderen Publikationsformaten? \nIn ihrem Vortrag gibt Barbara Budrich\, Verlegerin\, Lektorin und Autorin mit jahrzehntelanger Erfahrung im Wissenschaftsverlag\, Einblicke und praxisnahe Tipps zum Publizieren in wissenschaftlichen Fachzeitschriften. Sie gibt Hinweise zu Prozessen und Fristen\, thematisiert die Herausforderungen des Peer Reviews und beleuchtet Fragen wie: auf Deutsch oder Englisch? Open Access oder ‚klassisch‘ veröffentlichen? \n  \nTrainerin: Barbara Budrich \n  \nImage: pexels.com / Karolina Grabowska
URL:https://budrich-training.de/event/lange-nacht-des-schreibens-2025/
LOCATION:online\, Goethe-Universität Frankfurt am Main
CATEGORIES:Vortrag/Präsentation
ATTACH;FMTTYPE=image/png:https://budrich-training.de/wp-content/uploads/2025/01/bt-Lange-Nacht.png
END:VEVENT
END:VCALENDAR