BEGIN:VCALENDAR
VERSION:2.0
PRODID:-//budrich training - ECPv6.15.20//NONSGML v1.0//EN
CALSCALE:GREGORIAN
METHOD:PUBLISH
X-ORIGINAL-URL:https://budrich-training.de
X-WR-CALDESC:Veranstaltungen für budrich training
REFRESH-INTERVAL;VALUE=DURATION:PT1H
X-Robots-Tag:noindex
X-PUBLISHED-TTL:PT1H
BEGIN:VTIMEZONE
TZID:Europe/Berlin
BEGIN:DAYLIGHT
TZOFFSETFROM:+0100
TZOFFSETTO:+0200
TZNAME:CEST
DTSTART:20240331T010000
END:DAYLIGHT
BEGIN:STANDARD
TZOFFSETFROM:+0200
TZOFFSETTO:+0100
TZNAME:CET
DTSTART:20241027T010000
END:STANDARD
BEGIN:DAYLIGHT
TZOFFSETFROM:+0100
TZOFFSETTO:+0200
TZNAME:CEST
DTSTART:20250330T010000
END:DAYLIGHT
BEGIN:STANDARD
TZOFFSETFROM:+0200
TZOFFSETTO:+0100
TZNAME:CET
DTSTART:20251026T010000
END:STANDARD
BEGIN:DAYLIGHT
TZOFFSETFROM:+0100
TZOFFSETTO:+0200
TZNAME:CEST
DTSTART:20260329T010000
END:DAYLIGHT
BEGIN:STANDARD
TZOFFSETFROM:+0200
TZOFFSETTO:+0100
TZNAME:CET
DTSTART:20261025T010000
END:STANDARD
END:VTIMEZONE
BEGIN:VEVENT
DTSTART;TZID=Europe/Berlin:20250515T150000
DTEND;TZID=Europe/Berlin:20250515T170000
DTSTAMP:20260420T050317
CREATED:20260323T074919Z
LAST-MODIFIED:20260402T163841Z
UID:8830-1747321200-1747328400@budrich-training.de
SUMMARY:Erfolgreich im starken Netzwerk – Vertiefungsworkshop der budrich-training-Clubs
DESCRIPTION:Erfolg ist ein Gesellschaftsspiel – auch im Lande Academia. Wie werden Sie zu einem gefragten Kontakt in Ihrem eigenen akademischen Netzwerk? Was haben Sie zu bieten und was wünschen Sie sich von anderen? Sicherlich haben auch Sie schon von rücksichtslosen Kolleg*innen gehört\, die Ergebnisse aus gemeinschaftlicher Arbeit für sich allein beanspruchen. Vielleicht ist Ihnen selbst schon Derartiges widerfahren? Und auch\, wenn es keinen absoluten Schutz vor derartigem Betrug geben kann\, so ist es auch nahezu unmöglich\, alleine wirklich erfolgreich zu sein. In diesem Workshop zeigt Barbara Budrich Ihnen Wege auf\, wie Sie sich mit Kolleg*innen vernetzen können und an welchen Stellen Peers ganz besonders wichtig sind. \nDer Vertiefungsworkshop „Erfolgreich im starken Netzwerk“ ist ein kostenloses Angebot für Mitglieder des Academic Career Clubs von budrich training. \n  \nTrainerin: Barbara Budrich \n  \nSie möchten Club-Mitglied werden und teilnehmen? \nInformationen zu den budrich-training-Clubs und Möglichkeiten zur Anmeldung finden Sie hier. Wenden Sie sich mit Ihren Fragen gerne an cathrin.mund@budrich.de. \n  \nHeaderbild: pexels.com 2024 / Karolina Grabowska
URL:https://budrich-training.de/event/erfolgreich-im-starken-netzwerk-vertiefungsworkshop-der-budrich-training-clubs/
LOCATION:online via Zoom
CATEGORIES:Workshop "Wissenschaftliches Publizieren",Workshop "Wissenschaftliches Schreiben"
ATTACH;FMTTYPE=image/jpeg:https://budrich-training.de/wp-content/uploads/2024/10/pexels-cowomen-2041386-scaled.jpg
ORGANIZER;CN="Cathrin Mund":MAILTO:cathrin.mund@budrich.de
END:VEVENT
END:VCALENDAR