BEGIN:VCALENDAR
VERSION:2.0
PRODID:-//budrich training - ECPv6.15.20//NONSGML v1.0//EN
CALSCALE:GREGORIAN
METHOD:PUBLISH
X-ORIGINAL-URL:https://budrich-training.de
X-WR-CALDESC:Veranstaltungen für budrich training
REFRESH-INTERVAL;VALUE=DURATION:PT1H
X-Robots-Tag:noindex
X-PUBLISHED-TTL:PT1H
BEGIN:VTIMEZONE
TZID:Europe/Berlin
BEGIN:DAYLIGHT
TZOFFSETFROM:+0100
TZOFFSETTO:+0200
TZNAME:CEST
DTSTART:20240331T010000
END:DAYLIGHT
BEGIN:STANDARD
TZOFFSETFROM:+0200
TZOFFSETTO:+0100
TZNAME:CET
DTSTART:20241027T010000
END:STANDARD
BEGIN:DAYLIGHT
TZOFFSETFROM:+0100
TZOFFSETTO:+0200
TZNAME:CEST
DTSTART:20250330T010000
END:DAYLIGHT
BEGIN:STANDARD
TZOFFSETFROM:+0200
TZOFFSETTO:+0100
TZNAME:CET
DTSTART:20251026T010000
END:STANDARD
BEGIN:DAYLIGHT
TZOFFSETFROM:+0100
TZOFFSETTO:+0200
TZNAME:CEST
DTSTART:20260329T010000
END:DAYLIGHT
BEGIN:STANDARD
TZOFFSETFROM:+0200
TZOFFSETTO:+0100
TZNAME:CET
DTSTART:20261025T010000
END:STANDARD
END:VTIMEZONE
BEGIN:VEVENT
DTSTART;TZID=Europe/Berlin:20250605T100000
DTEND;TZID=Europe/Berlin:20250606T180000
DTSTAMP:20260420T204845
CREATED:20260323T075524Z
LAST-MODIFIED:20260402T163427Z
UID:8833-1749117600-1749232800@budrich-training.de
SUMMARY:Publishing in the English language academic market for non-native speakers (online)
DESCRIPTION:This course takes the outside view on academic publishing in the English language market. For non-native speakers\, the Anglo-American publishing environment can be dauntingly different\, as it functions according to culturally specific rules and market models that are not apparent to outsiders. Yet\, for any international scholar publications in English language journals and books are a major stepping stone for a successful career. \nThe course is aimed at early- and mid-career academics of all faculties who wish to publish their work in English. It provides those unfamiliar with the particularities of UK and US publishers with all the information they need to confidently approach the press of their choice. Focusing on the practical steps involved\, the course provides a concrete publication roadmap based on the participants’ actual projects.\nWhat criteria do publishers apply when deciding for or against a proposed project? How do you find and approach the best journal for your article? What matters in book contract negotiations? How much support can you expect from your editor? These and many more questions will be addressed as part of the workshop. \nThis workshop is a two-day workshop that lasts from 10 a.m. to 6 p.m. on both days \n  \nTrainer: Jakob Horstmann \n  \nBild: pexels.com / Ivan Samkov
URL:https://budrich-training.de/event/publishing-in-the-english-language-academic-market-for-non-native-speakers-online/
LOCATION:Bauhaus Research School
CATEGORIES:Workshop "Wissenschaftliches Publizieren"
ATTACH;FMTTYPE=image/png:https://budrich-training.de/wp-content/uploads/2024/12/bt-publishing-international.png
END:VEVENT
END:VCALENDAR