BEGIN:VCALENDAR
VERSION:2.0
PRODID:-//budrich training - ECPv6.15.20//NONSGML v1.0//EN
CALSCALE:GREGORIAN
METHOD:PUBLISH
X-ORIGINAL-URL:https://budrich-training.de
X-WR-CALDESC:Veranstaltungen für budrich training
REFRESH-INTERVAL;VALUE=DURATION:PT1H
X-Robots-Tag:noindex
X-PUBLISHED-TTL:PT1H
BEGIN:VTIMEZONE
TZID:Europe/Berlin
BEGIN:DAYLIGHT
TZOFFSETFROM:+0100
TZOFFSETTO:+0200
TZNAME:CEST
DTSTART:20240331T010000
END:DAYLIGHT
BEGIN:STANDARD
TZOFFSETFROM:+0200
TZOFFSETTO:+0100
TZNAME:CET
DTSTART:20241027T010000
END:STANDARD
BEGIN:DAYLIGHT
TZOFFSETFROM:+0100
TZOFFSETTO:+0200
TZNAME:CEST
DTSTART:20250330T010000
END:DAYLIGHT
BEGIN:STANDARD
TZOFFSETFROM:+0200
TZOFFSETTO:+0100
TZNAME:CET
DTSTART:20251026T010000
END:STANDARD
BEGIN:DAYLIGHT
TZOFFSETFROM:+0100
TZOFFSETTO:+0200
TZNAME:CEST
DTSTART:20260329T010000
END:DAYLIGHT
BEGIN:STANDARD
TZOFFSETFROM:+0200
TZOFFSETTO:+0100
TZNAME:CET
DTSTART:20261025T010000
END:STANDARD
END:VTIMEZONE
BEGIN:VEVENT
DTSTART;TZID=Europe/Berlin:20250703T160000
DTEND;TZID=Europe/Berlin:20250703T170000
DTSTAMP:20260420T232525
CREATED:20260323T081824Z
LAST-MODIFIED:20260402T162244Z
UID:8842-1751558400-1751562000@budrich-training.de
SUMMARY:Publishing Insights #3: So schreiben Sie schöne wissenschaftliche Texte
DESCRIPTION:Kann ein wissenschaftlicher Text schön geschrieben sein? Gibt es objektive Kriterien\, an denen Sie sich beim Verfassen Ihrer Texte orientieren können? \nIn unserem Publishing-Insights-Webinar „So schreiben Sie schöne wissenschaftliche Texte“ geben wir Ihnen einige wenige Werkzeuge an die Hand\, mit deren Hilfe Ihre Texte schöner werden können. Von „A & O“ über den Mikro-Makro-Dreischritt bis hin zur Aktivierung Ihrer Texte erhalten Sie praxisrelevante Helferlein – damit Ihre Leser*innen gern von Ihnen lesen! \n„Texte schreiben\, Aufgaben erledigen – so kommen Sie mühelos voran“ ist Teil der Webinarreihe Publishing Insights. In den kostenlosen Webinaren erhalten Sie einmal im Quartal Input von Verlegerin Barbara Budrich – und können eigene Fragen einbringen. Die Webinare finden entweder dienstags oder donnerstags ab 16 Uhr statt und dauern circa eine Stunde. Vorherige Anmeldung notwendig. \nDie weiteren Termine der Publishing Insights finden Sie hier. \n  \n→ Zur Anmeldung via Zoom
URL:https://budrich-training.de/event/publishing-insights-3-so-schreiben-sie-schoene-wissenschaftliche-texte/
LOCATION:online via Zoom
CATEGORIES:Publishing Insights
ATTACH;FMTTYPE=image/jpeg:https://budrich-training.de/wp-content/uploads/2024/12/schoene-wissenschaftliche-Texte_7-2025-scaled.jpg
ORGANIZER;CN="Cathrin Mund":MAILTO:cathrin.mund@budrich.de
END:VEVENT
END:VCALENDAR