BEGIN:VCALENDAR
VERSION:2.0
PRODID:-//budrich training - ECPv6.15.20//NONSGML v1.0//EN
CALSCALE:GREGORIAN
METHOD:PUBLISH
X-ORIGINAL-URL:https://budrich-training.de
X-WR-CALDESC:Veranstaltungen für budrich training
REFRESH-INTERVAL;VALUE=DURATION:PT1H
X-Robots-Tag:noindex
X-PUBLISHED-TTL:PT1H
BEGIN:VTIMEZONE
TZID:Europe/Berlin
BEGIN:DAYLIGHT
TZOFFSETFROM:+0100
TZOFFSETTO:+0200
TZNAME:CEST
DTSTART:20240331T010000
END:DAYLIGHT
BEGIN:STANDARD
TZOFFSETFROM:+0200
TZOFFSETTO:+0100
TZNAME:CET
DTSTART:20241027T010000
END:STANDARD
BEGIN:DAYLIGHT
TZOFFSETFROM:+0100
TZOFFSETTO:+0200
TZNAME:CEST
DTSTART:20250330T010000
END:DAYLIGHT
BEGIN:STANDARD
TZOFFSETFROM:+0200
TZOFFSETTO:+0100
TZNAME:CET
DTSTART:20251026T010000
END:STANDARD
BEGIN:DAYLIGHT
TZOFFSETFROM:+0100
TZOFFSETTO:+0200
TZNAME:CEST
DTSTART:20260329T010000
END:DAYLIGHT
BEGIN:STANDARD
TZOFFSETFROM:+0200
TZOFFSETTO:+0100
TZNAME:CET
DTSTART:20261025T010000
END:STANDARD
END:VTIMEZONE
BEGIN:VEVENT
DTSTART;TZID=Europe/Berlin:20251117T100000
DTEND;TZID=Europe/Berlin:20251118T160000
DTSTAMP:20260420T042155
CREATED:20260323T095758Z
LAST-MODIFIED:20260331T130933Z
UID:8884-1763373600-1763481600@budrich-training.de
SUMMARY:Scientific Communication in der Geschlechterforschung – Publizieren mit Sichtbarkeit
DESCRIPTION:Publish or perish – Publizieren ist für die wissenschaftliche Karriere unabdingbar. Wer nicht publiziert\, verbreitet die eigenen Erkenntnisse und Leistungen nicht und ist damit im Fachbereich nicht präsent. Auf Grundlage jahrzehntelanger Verlagserfahrung vermittelt Barbara Budrich in diesem zweiteiligen Workshop die Grundlagen des wissenschaftlichen Publizierens und unterstützt die Teilnehmer*innen dabei\, eine passende Publikationsstrategie für ihr Projekt und ihren Fachbereich zu entwickeln. \n  \nTeil 1: Grundlagen des Publizierens und Orientierung im Publikationsmarkt\nIm ersten Teil des Workshops steht die Auseinandersetzung mit dem eigenen Publikationsvorhaben im Mittelpunkt. Die Teilnehmer*innen analysieren ihr aktuelles Projekt im Hinblick auf denPublikationsmarkt der Gender Studies: Was habe ich anzubieten? Was benötige ich für eine erfolgreiche Publikation? Wie kann ich an den Fachdiskurs anknüpfen?\nDarauf aufbauend erhalten sie einen Überblick über die unterschiedlichen Publikationsformate – ob Print oder digital\, ob herkömmlich oder im Open Access – und lernen\, welche Form für ihren Text geeignet ist. Zudem erfahren sie\, wie sie den passenden Publikationspartner auswählen\, wann der richtige Zeitpunkt ist\, ein Projekt einem Verlag vorzustellen\, und was ein überzeugendes Verlagsexposé enthalten sollte. Übungen zur Vorstellung des eigenen Projekts sowie zur gegenseitigen Beurteilung (Peer-Feedback) ergänzen diesen Teil. \n  \nTeil 2: Strategien für Sichtbarkeit\, Reputation und Karriereplanung\nIm zweiten Teil des Workshops stehen die Karriereplanung und der strategische Aufbau von Reputation durch Publikationen im Fokus. Die Teilnehmer*innen entwickeln auf Basis der erarbeiteten Inhalte ihre individuelle Publikationsstrategie und reflektieren diese vor dem Hintergrund der Fachöffentlichkeit der Gender Studies und den Anforderungen des Publikationsmarkts.\nDabei werden auch die Besonderheiten des internationalen Publizierens thematisiert sowie Möglichkeiten aufgezeigt\, sich über das eigene Fachgebiet hinaus zu positionieren – etwa durch Wissenschaftskommunikation in Form von Blogbeiträgen oder audiovisuellen Formaten\, die den Dialog mit einer breiteren Öffentlichkeit fördern. \nDer Workshop richtet sich an Promovierende\, Habilitierende\, Postdocs und fortgeschrittene Masterstudierende der Geschlechterforschung in den unterschiedlichen Phasen ihrer Vorhaben. \nDer Workshop findet an zwei Tagen online statt\, jeweils von 10 bis 16 Uhr. \n  \nTrainerin: Barbara Budrich
URL:https://budrich-training.de/event/scientific-communication-in-der-geschlechterforschung-publizieren-mit-sichtbarkeit/
LOCATION:Essener Kolleg für Geschlechterforschung (EKfG)\, online
CATEGORIES:Workshop "Wissenschaftliches Publizieren"
ATTACH;FMTTYPE=image/jpeg:https://budrich-training.de/wp-content/uploads/2024/08/pexels-polina-zimmerman-3747403-scaled.jpg
END:VEVENT
END:VCALENDAR