BEGIN:VCALENDAR
VERSION:2.0
PRODID:-//budrich training - ECPv6.15.20//NONSGML v1.0//EN
CALSCALE:GREGORIAN
METHOD:PUBLISH
X-ORIGINAL-URL:https://budrich-training.de
X-WR-CALDESC:Veranstaltungen für budrich training
REFRESH-INTERVAL;VALUE=DURATION:PT1H
X-Robots-Tag:noindex
X-PUBLISHED-TTL:PT1H
BEGIN:VTIMEZONE
TZID:Europe/Berlin
BEGIN:DAYLIGHT
TZOFFSETFROM:+0100
TZOFFSETTO:+0200
TZNAME:CEST
DTSTART:20240331T010000
END:DAYLIGHT
BEGIN:STANDARD
TZOFFSETFROM:+0200
TZOFFSETTO:+0100
TZNAME:CET
DTSTART:20241027T010000
END:STANDARD
BEGIN:DAYLIGHT
TZOFFSETFROM:+0100
TZOFFSETTO:+0200
TZNAME:CEST
DTSTART:20250330T010000
END:DAYLIGHT
BEGIN:STANDARD
TZOFFSETFROM:+0200
TZOFFSETTO:+0100
TZNAME:CET
DTSTART:20251026T010000
END:STANDARD
BEGIN:DAYLIGHT
TZOFFSETFROM:+0100
TZOFFSETTO:+0200
TZNAME:CEST
DTSTART:20260329T010000
END:DAYLIGHT
BEGIN:STANDARD
TZOFFSETFROM:+0200
TZOFFSETTO:+0100
TZNAME:CET
DTSTART:20261025T010000
END:STANDARD
END:VTIMEZONE
BEGIN:VEVENT
DTSTART;TZID=Europe/Berlin:20250401T083000
DTEND;TZID=Europe/Berlin:20250401T123000
DTSTAMP:20260422T030754
CREATED:20260323T072234Z
LAST-MODIFIED:20260402T165650Z
UID:8808-1743496200-1743510600@budrich-training.de
SUMMARY:Wissenschaftliches Schreiben: Texten\, Planen\, Optimieren – Schulungsreihe A (online)
DESCRIPTION:Die Schulung vermittelt an jeweils drei Tagen in interaktiven Einheiten\, durch inhaltliche Impulse und schreibpraktische Übungen die Grundlagen der wissenschaftlichen Texterstellung und -planung\, der Textoptimierung und Schreiborganisation.\nDie Teilnehmenden lernen\, wie sie ihre Gedanken fachlich und stilistisch angemessen in Form bringen: wie sie Sätze und Texte so verfassen\, dass sie logisch\, verständlich und präzise sind; wie sie Klarheit und Harmonie schaffen\, indem sie strukturieren und gliedern; wie sie beim Schreiben den roten Faden und den Spannungsbogen halten. \nWir besprechen individuelle Herausforderungen bei der Texterstellung\, Aspekte des Text- und Satzaufbaus und geben Strategien an die Hand\, sprachliche Komplexität zu reduzieren und auch komplizierte Sachverhalte einfach zu vermitteln. Auch das zielgruppengerechte Schreiben wird in den Fokus genommen: für unterschiedliche Textsorten und Zielgruppen; spezifische Problemstellungen hierbei werden aufgezeigt und geklärt. \nDie Teilnehmenden erfahren zudem\, wie ein idealer Schreibprozess aussieht\, wie aus einzelnen Textteilen Schritt für Schritt ein fertiger Text wird und wie sie eine Schreibplanung entwickeln\, die zu ihrem jeweiligen Projekt passt. Herausforderungen des Schreibens – allein und im Team – werden besprochen\, und die Trainerin gibt den Teilnehmenden Techniken an die Hand\, die ihnen das Schreiben akademischer Texte deutlich erleichtern. Zentrale rechtliche und technische Aspekte der Textveröffentlichung werden darüber hinaus besprochen.\nWir legen großen Wert auf Praxis und Interaktivität – da sich Schreiben nur durch Schreiben lernen lässt\, fokussieren wir uns vor allem genau darauf. Die Teilnehmenden haben die Möglichkeit\, eigene Texte mitzubringen\, anhand derer wir individuelle Herausforderungen besprechen können. \nDie Schulung ist modular aufgebaut und gliedert sich in drei Blöcke: \nBlock I: Grundlagen des wissenschaftlichen Schreibens\nBlock II: Texte planen\nBlock III: Texte optimieren\, positionieren und verbreiten \nDie Veranstaltung ist der erste Termin einer Schulungsreihe mit weiteren Terminen am 7. April und am 10. April 2025. \n  \nTrainerin: Barbara Budrich \n  \nTitelbild: pexels.com / Pavel Danilyuk
URL:https://budrich-training.de/event/8808/
LOCATION:Fraunhofer-Institutszentrum Stuttgart IZS
CATEGORIES:Workshop "Wissenschaftliches Schreiben"
ATTACH;FMTTYPE=image/png:https://budrich-training.de/wp-content/uploads/2024/11/Blogbeitraege-divers-900x5005-1.png
END:VEVENT
END:VCALENDAR