BEGIN:VCALENDAR
VERSION:2.0
PRODID:-//budrich training - ECPv6.15.20//NONSGML v1.0//EN
CALSCALE:GREGORIAN
METHOD:PUBLISH
X-ORIGINAL-URL:https://budrich-training.de
X-WR-CALDESC:Veranstaltungen für budrich training
REFRESH-INTERVAL;VALUE=DURATION:PT1H
X-Robots-Tag:noindex
X-PUBLISHED-TTL:PT1H
BEGIN:VTIMEZONE
TZID:Europe/Berlin
BEGIN:DAYLIGHT
TZOFFSETFROM:+0100
TZOFFSETTO:+0200
TZNAME:CEST
DTSTART:20240331T010000
END:DAYLIGHT
BEGIN:STANDARD
TZOFFSETFROM:+0200
TZOFFSETTO:+0100
TZNAME:CET
DTSTART:20241027T010000
END:STANDARD
BEGIN:DAYLIGHT
TZOFFSETFROM:+0100
TZOFFSETTO:+0200
TZNAME:CEST
DTSTART:20250330T010000
END:DAYLIGHT
BEGIN:STANDARD
TZOFFSETFROM:+0200
TZOFFSETTO:+0100
TZNAME:CET
DTSTART:20251026T010000
END:STANDARD
BEGIN:DAYLIGHT
TZOFFSETFROM:+0100
TZOFFSETTO:+0200
TZNAME:CEST
DTSTART:20260329T010000
END:DAYLIGHT
BEGIN:STANDARD
TZOFFSETFROM:+0200
TZOFFSETTO:+0100
TZNAME:CET
DTSTART:20261025T010000
END:STANDARD
END:VTIMEZONE
BEGIN:VEVENT
DTSTART;TZID=Europe/Berlin:20250423T150000
DTEND;TZID=Europe/Berlin:20250423T163000
DTSTAMP:20260421T100539
CREATED:20260323T073548Z
LAST-MODIFIED:20260402T165333Z
UID:8821-1745420400-1745425800@budrich-training.de
SUMMARY:Erfolgreich schreiben (online)
DESCRIPTION:Ziel des Workshops ist die Reflektion und Weiterentwicklung des eigenen wissenschaftlichen Schreibstils. \nWir besprechen individuelle Herausforderungen bei der Texterstellung\, Aspekte des Text- und Satzaufbaus und geben Strategien an die Hand\, besser ins Schreiben zu kommen. Auch Herausforderungen des angemessenen Schreibens werden in den Fokus genommen: für unterschiedliche Textsorten und Zielgruppen\, spezifische Problemstellungen hierbei werden aufgezeigt und geklärt. \nDer Workshop ist Teil einer Veranstaltung des Doktoratskollegs des Fachbereichs Erziehungswissenschaft an der Universität Salzburg. Nach dem Auftakttermin finden zwei weitere Online-Termine (Schreibclubs) für die Mitglieder des Kollegs statt. \n  \nTrainerin: Barbara Budrich \n  \nTitelbild: pexels.com / CoWomen
URL:https://budrich-training.de/event/erfolgreich-schreiben-online/
LOCATION:Doktoratskolleg\, Fachbereich Erziehungswissenschaft\, Universität Salzburg
CATEGORIES:Workshop "Wissenschaftliches Schreiben"
ATTACH;FMTTYPE=image/png:https://budrich-training.de/wp-content/uploads/2024/11/Besser-Schreiben-2025.png
END:VEVENT
END:VCALENDAR