BEGIN:VCALENDAR
VERSION:2.0
PRODID:-//budrich training - ECPv6.15.20//NONSGML v1.0//EN
CALSCALE:GREGORIAN
METHOD:PUBLISH
X-ORIGINAL-URL:https://budrich-training.de
X-WR-CALDESC:Veranstaltungen für budrich training
REFRESH-INTERVAL;VALUE=DURATION:PT1H
X-Robots-Tag:noindex
X-PUBLISHED-TTL:PT1H
BEGIN:VTIMEZONE
TZID:Europe/Berlin
BEGIN:DAYLIGHT
TZOFFSETFROM:+0100
TZOFFSETTO:+0200
TZNAME:CEST
DTSTART:20240331T010000
END:DAYLIGHT
BEGIN:STANDARD
TZOFFSETFROM:+0200
TZOFFSETTO:+0100
TZNAME:CET
DTSTART:20241027T010000
END:STANDARD
BEGIN:DAYLIGHT
TZOFFSETFROM:+0100
TZOFFSETTO:+0200
TZNAME:CEST
DTSTART:20250330T010000
END:DAYLIGHT
BEGIN:STANDARD
TZOFFSETFROM:+0200
TZOFFSETTO:+0100
TZNAME:CET
DTSTART:20251026T010000
END:STANDARD
BEGIN:DAYLIGHT
TZOFFSETFROM:+0100
TZOFFSETTO:+0200
TZNAME:CEST
DTSTART:20260329T010000
END:DAYLIGHT
BEGIN:STANDARD
TZOFFSETFROM:+0200
TZOFFSETTO:+0100
TZNAME:CET
DTSTART:20261025T010000
END:STANDARD
END:VTIMEZONE
BEGIN:VEVENT
DTSTART;TZID=Europe/Berlin:20251009T170000
DTEND;TZID=Europe/Berlin:20251009T180000
DTSTAMP:20260420T232523
CREATED:20260323T090606Z
LAST-MODIFIED:20260331T135407Z
UID:8861-1760029200-1760032800@budrich-training.de
SUMMARY:„Impulse fürs Schreiben und Publizieren in der Geschlechterforschung“
DESCRIPTION:Spätestens wenn die Dissertation fertig ist\, müssen sich Wissenschaftler*innen mit der Publikation ihres Textes befassen. Auch das Veranstalten von Tagungen und Workshops oder die Beschäftigung mit einschlägigen Themen wecken oft den Wunsch\, die Ergebnisse zu veröffentlichen. Auf der Grundlage jahrzehntelanger Verlagserfahrung gibt Barbara Budrich Einblicke ins Publizieren wissenschaftlicher Texte im Bereich der Geschlechterforschung. Sie thematisiert die eigene Motivation im Schreib- und Publikationsprozess\, die Suche nach einem geeigneten Publikationspartner und -format\, wie ein Publikationsprozess abläuft sowie die Eigenheiten der Veröffentlichung einer Dissertation. Außerdem wirft sie mit den Teilnehmer*innen einen Blick darauf\, wie es gelingen kann\, Veröffentlichungen ideal für die eigene Karriere zu nutzen. \nNach dem Impulsvortrag gibt es die Möglichkeit für Fragen und Austausch mit Barbara Budrich. \n  \nTrainerin: Barbara Budrich \n  \nFoto: pexels.com / fauxels
URL:https://budrich-training.de/event/impulse-fuers-schreiben-und-publizieren-in-der-geschlechterforschung/
LOCATION:LAGEN-Doktorand*innentag 2025\, Georg-August-Universität Göttingen
CATEGORIES:Vortrag/Präsentation,Workshop "Wissenschaftliches Publizieren"
ATTACH;FMTTYPE=image/png:https://budrich-training.de/wp-content/uploads/2025/09/bt-DoktorandInnen-Tag.png
END:VEVENT
END:VCALENDAR