BEGIN:VCALENDAR
VERSION:2.0
PRODID:-//budrich training - ECPv6.15.20//NONSGML v1.0//EN
CALSCALE:GREGORIAN
METHOD:PUBLISH
X-ORIGINAL-URL:https://budrich-training.de
X-WR-CALDESC:Veranstaltungen für budrich training
REFRESH-INTERVAL;VALUE=DURATION:PT1H
X-Robots-Tag:noindex
X-PUBLISHED-TTL:PT1H
BEGIN:VTIMEZONE
TZID:Europe/Berlin
BEGIN:DAYLIGHT
TZOFFSETFROM:+0100
TZOFFSETTO:+0200
TZNAME:CEST
DTSTART:20240331T010000
END:DAYLIGHT
BEGIN:STANDARD
TZOFFSETFROM:+0200
TZOFFSETTO:+0100
TZNAME:CET
DTSTART:20241027T010000
END:STANDARD
BEGIN:DAYLIGHT
TZOFFSETFROM:+0100
TZOFFSETTO:+0200
TZNAME:CEST
DTSTART:20250330T010000
END:DAYLIGHT
BEGIN:STANDARD
TZOFFSETFROM:+0200
TZOFFSETTO:+0100
TZNAME:CET
DTSTART:20251026T010000
END:STANDARD
BEGIN:DAYLIGHT
TZOFFSETFROM:+0100
TZOFFSETTO:+0200
TZNAME:CEST
DTSTART:20260329T010000
END:DAYLIGHT
BEGIN:STANDARD
TZOFFSETFROM:+0200
TZOFFSETTO:+0100
TZNAME:CET
DTSTART:20261025T010000
END:STANDARD
END:VTIMEZONE
BEGIN:VEVENT
DTSTART;TZID=Europe/Berlin:20250714T093000
DTEND;TZID=Europe/Berlin:20250714T150000
DTSTAMP:20260420T015620
CREATED:20260323T084719Z
LAST-MODIFIED:20260402T161626Z
UID:8852-1752485400-1752505200@budrich-training.de
SUMMARY:“Publishing in academic journals in the Anglo-American market” (online)
DESCRIPTION:In this practice-oriented workshop\, the participants will learn how to find\, approach\, and successfully collaborate with Anglo-American academic journal publishers. The aim is to enable participants to confidently assess their own journal publication project\, identify suitable destination publishers and journals\, and learn how to best develop and pitch their project at high-quality English language journals. \nThe course is aimed at mid-career to senior academics who want to place their articles in the Anglo-American market. It consists of a half-day (4.5h net) participatory presentation covering the advanced basics of journal publishing\, from the best way to search for suitable outlets to the drafting and delivering of a journal article and the peer review process. The final section of this first part will also address marketing and PR efforts the participants can actively use. \nOn a separate day\, the participants will then be given the opportunity to partake in 30min to 45min individual coaching sessions to discuss their current journal projects in detail. This will help in determining what the next steps in their publication efforts should be. \n  \nCoach: Jakob Horstmann
URL:https://budrich-training.de/event/publishing-in-academic-journals-in-the-anglo-american-market-online/
LOCATION:Virtual Ukraine Institute for Advanced Study\, Wissenschaftskolleg zu Berlin
CATEGORIES:Workshop "Wissenschaftliches Publizieren"
ATTACH;FMTTYPE=image/jpeg:https://budrich-training.de/wp-content/uploads/2024/08/pexels-greta-hoffman-7858836-scaled.jpg
END:VEVENT
END:VCALENDAR