BEGIN:VCALENDAR
VERSION:2.0
PRODID:-//budrich training - ECPv6.15.20//NONSGML v1.0//EN
CALSCALE:GREGORIAN
METHOD:PUBLISH
X-ORIGINAL-URL:https://budrich-training.de
X-WR-CALDESC:Veranstaltungen für budrich training
REFRESH-INTERVAL;VALUE=DURATION:PT1H
X-Robots-Tag:noindex
X-PUBLISHED-TTL:PT1H
BEGIN:VTIMEZONE
TZID:Europe/Berlin
BEGIN:DAYLIGHT
TZOFFSETFROM:+0100
TZOFFSETTO:+0200
TZNAME:CEST
DTSTART:20240331T010000
END:DAYLIGHT
BEGIN:STANDARD
TZOFFSETFROM:+0200
TZOFFSETTO:+0100
TZNAME:CET
DTSTART:20241027T010000
END:STANDARD
BEGIN:DAYLIGHT
TZOFFSETFROM:+0100
TZOFFSETTO:+0200
TZNAME:CEST
DTSTART:20250330T010000
END:DAYLIGHT
BEGIN:STANDARD
TZOFFSETFROM:+0200
TZOFFSETTO:+0100
TZNAME:CET
DTSTART:20251026T010000
END:STANDARD
BEGIN:DAYLIGHT
TZOFFSETFROM:+0100
TZOFFSETTO:+0200
TZNAME:CEST
DTSTART:20260329T010000
END:DAYLIGHT
BEGIN:STANDARD
TZOFFSETFROM:+0200
TZOFFSETTO:+0100
TZNAME:CET
DTSTART:20261025T010000
END:STANDARD
END:VTIMEZONE
BEGIN:VEVENT
DTSTART;TZID=Europe/Berlin:20250627T090000
DTEND;TZID=Europe/Berlin:20250627T160000
DTSTAMP:20260420T050318
CREATED:20260323T080001Z
LAST-MODIFIED:20260402T162442Z
UID:8838-1751014800-1751040000@budrich-training.de
SUMMARY:Successful Publishing: Strategies and Trends in Academic Publishing (online)
DESCRIPTION:In this one-day workshop\, participants will learn about essential strategies and trends in the world of academic publishing. Designed specifically for post-doctoral researchers\, this workshop aims to equip participants with the tools and insights they need to successfully publish their research while navigating the evolving landscape of academic publishing. Through a combination of presentations\, discussions\, and practical exercises\, participants will learn how to create an effective publication strategy\, understand different publishing cultures and peer-review processes\, and stay up to date on the latest trends like open access and AI in publishing. \nEach part of the workshop includes dedicated time for questions and peer feedback. \nWorkshop structure: \nPart I: Understanding academic publishing today\nPart II: Developing your individual publishing strategy with ease \n  \nTrainer: Barbara Budrich \n  \nHeader photo: pexels.com / Karolina Grabowska
URL:https://budrich-training.de/event/successful-publishing-strategies-and-trends-in-academic-publishing-online/
LOCATION:Postdoc Career Weeks 2025 (Rhein-Main-Universitätsverbund)
CATEGORIES:Workshop "Wissenschaftliches Publizieren"
ATTACH;FMTTYPE=image/jpeg:https://budrich-training.de/wp-content/uploads/2024/11/pexels-karolina-grabowska-8546589-scaled.jpg
END:VEVENT
END:VCALENDAR